Workbook
Name \A: #N/A
Name \B: #N/A
Name \C: #N/A
Name \D: #N/A
Name \E: #N/A
Name \F: #N/A
Name \G: #N/A
Name \H: #N/A
Name \I: #N/A
Name \j: #N/A
Name \K: #N/A
Name \L: #N/A
Name \M: #N/A
Name \N: #N/A
Name \O: #N/A
Name \P: #N/A
Name \Q: #N/A
Name \R: #N/A
Name \S: #N/A
Name \T: #N/A
Name \u: #REF!
Name \u: #REF!
Name \u: #REF!
Name \u: #REF!
Name \u: #REF!
Name \u: #REF!
Name \w: #REF!
Name \w: #REF!
Name \w: #REF!
Name \w: #REF!
Name \w: #REF!
Name \w: #REF!
Name \X: #N/A
Name \y: #N/A
Name \z: #N/A
Name _: #N/A
Name ______TBA1: [1]Summary!$Q$260
Name _____CHG1: #N/A
Name _____CHG2: #N/A
Name _____ECU1: #N/A
Name _____ECU2: #N/A
Name _____ECU3: #N/A
Name _____ECU4: #N/A
Name _____ECU5: #N/A
Name _____GHH2: '[2]EB trends'!$A$6:$BG$89
Name _____grp1: #N/A
Name _____OTH94: #REF!
Name _____OTH94: #REF!
Name _____OTH94: #REF!
Name _____OTH94: #REF!
Name _____OTH94: #REF!
Name _____OTH94: #REF!
Name _____PG1: #N/A
Name _____PG2: #N/A
Name _____PG3: #N/A
Name _____PLA86: #N/A
Name _____PLA87: #N/A
Name _____SAL1: #N/A
Name _____SAL2: #N/A
Name _____SAL3: #N/A

Sheet Table 1- 3Q26 GAAP 
A1: MERCK & CO., INC., RAHWAY, N.J., USA
A2: CONSOLIDATED STATEMENT OF OPERATIONS - GAAP
A3: (AMOUNTS IN MILLIONS, EXCEPT PER SHARE FIGURES)
A4: (UNAUDITED)
A5: Table 1
C7: GAAP | F7: % Change | H7: GAAP | K7: % Change
C9: 3Q26 | D9: 3Q25 | H9: Sep YTD 2026 | I9: Sep YTD 2025
A12: Sales | C12: 18085 | D12: 17276 | F12: =(C12-D12)/D12 -> 0.046827969 | H12: 50978 | I12: 48611 | K12: =(H12-I12)/I12 -> 0.048692683
A14: Costs, Expenses and Other
A15: Cost of sales | C15: 4892 | D15: 3855 | F15: =(C15-D15)/D15 -> 0.2690013 | H15: 13482 | I15: 10831 | K15: =(H15-I15)/I15 -> 0.24476041
A16: Selling, general and administrative | C16: 2886 | D16: 2633 | F16: =(C16-D16)/D16 -> 0.096088112 | H16: 8491 | I16: 7835 | K16: =(H16-I16)/I16 -> 0.083726867
A17: Research and development | C17: 4537 | D17: 4234 | F17: =(C17-D17)/D17 -> 0.071563533 | H17: 26871 | I17: 11903 | K17: *
A18: Restructuring costs | C18: 184 | D18: 47 | F18: * | H18: 530 | I18: 676 | K18: =(H18-I18)/I18 -> -0.21597633
A19: Other (income) expense, net | C19: 27 | D19: -238 | F19: * | H19: 262 | I19: -281 | K19: *
A20: Income Before Taxes | C20: =C12-C15-C16-C17-C18-C19 -> 5559 | D20: =D12-D15-D16-D17-D18-D19 -> 6745 | F20: =(C20-D20)/D20 -> -0.17583395 | H20: =H12-H15-H16-H17-H18-H19 -> 1342 | I20: =I12-I15-I16-I17-I18-I19 -> 17647 | K20: =(H20-I20)/I20 -> -0.92395308
A21: Income Tax Provision | C21: 492 | D21: 958 | H21: 1855 | I21: 2346
A22: Net Income (Loss) | C22: =C20-C21 -> 5067 | D22: =D20-D21 -> 5787 | F22: =(C22-D22)/D22 -> -0.1244168 | H22: =H20-H21 -> -513 | I22: =I20-I21 -> 15301 | K22: *
A23: Less: Net Income (Loss) Attributable to Noncontrolling Interests | C23: 2 | D23: 2 | H23: -3 | I23: 10
A24: Net Income (Loss) Attributable to Merck & Co., Inc., Rahway, N.J., USA | C24: =C22-C23 -> 5065 | D24: =D22-D23 -> 5785 | F24: =(C24-D24)/D24 -> -0.12445981 | H24: =H22-H23 -> -510 | I24: =I22-I23 -> 15291 | K24: *
A26: Earnings (Loss) per Common Share Assuming Dilution (1) | C26: =C24/C28 -> 2.0439871 | D26: =D24/D28 -> 2.3158527 | F26: =(C26-D26)/D26 -> -0.1173933 | H26: =H24/H28 -> -0.20639417 | I26: =I24/I28 -> 6.0823389 | K26: *
A28: Average Shares Outstanding Assuming Dilution (1) | C28: 2478 | D28: 2498 | H28: 2471 | I28: 2514
A29: Effective Income Tax Rate | C29: =C21/C20 -> 0.088505127 | D29: =D21/D20 -> 0.14203113 | H29: =H21/H20 -> 1.3822653 | I29: =I21/I20 -> 0.13294044
A31: * 100% or greater
A33: (1) Because the Company recorded a net loss in the first nine months of 2026, no potential dilutive common shares were used in the computation of loss per common share assuming dilution as the effect would have been anti-dilutive.

Sheet Table 1a - GAAP
A1: MERCK & CO., INC., RAHWAY, N.J., USA
A2: CONSOLIDATED STATEMENT OF OPERATIONS - GAAP
A3: (AMOUNTS IN MILLIONS, EXCEPT PER SHARE FIGURES)
A4: (UNAUDITED)
A5: Table 1a
B7: 2026 | J7: 2025 | R7: % Change
B9: 1Q | C9: 2Q | D9: June YTD | E9: 3Q | F9: Sep YTD | G9: 4Q | H9: Full Year | J9: 1Q | K9: 2Q | L9: June YTD | M9: 3Q | N9: Sep YTD | O9: 4Q | P9: Full Year | R9: 3Q | S9: Sep YTD
H10: June YTD
J11: .
A12: Sales | B12: 16286 | C12: 16607 | E12: ='Table 1- 3Q26 GAAP '!C12 -> 18085 | F12: ='Table 1- 3Q26 GAAP '!H12 -> 50978 | J12: 15529 | K12: 15806 | L12: 31335 | M12: 17276 | N12: 48611 | O12: 16400 | P12: 65011 | R12: =(E12-M12)/M12 -> 0.046827969 | S12: =(F12-N12)/N12 -> 0.048692683
A14: Costs, Expenses and Other
A15: Cost of sales | B15: 4195 | C15: 4395 | E15: ='Table 1- 3Q26 GAAP '!C15 -> 4892 | F15: ='Table 1- 3Q26 GAAP '!H15 -> 13482 | J15: 3419 | K15: 3557 | L15: 6976 | M15: 3855 | N15: 10831 | O15: 5551 | P15: 16382 | R15: =(E15-M15)/M15 -> 0.2690013 | S15: =(F15-N15)/N15 -> 0.24476041
A16: Selling, general and administrative | B16: 2700 | C16: 2904 | E16: ='Table 1- 3Q26 GAAP '!C16 -> 2886 | F16: ='Table 1- 3Q26 GAAP '!H16 -> 8491 | J16: 2552 | K16: 2649 | L16: 5202 | M16: 2633 | N16: 7835 | O16: 2898 | P16: 10733 | R16: =(E16-M16)/M16 -> 0.096088112 | S16: =(F16-N16)/N16 -> 0.083726867
A17: Research and development | B17: 12592 | C17: 9741 | E17: ='Table 1- 3Q26 GAAP '!C17 -> 4537 | F17: ='Table 1- 3Q26 GAAP '!H17 -> 26871 | J17: 3621 | K17: 4048 | L17: 7669 | M17: 4234 | N17: 11903 | O17: 3886 | P17: 15789 | R17: =(E17-M17)/M17 -> 0.071563533 | S17: *
A18: Restructuring costs | B18: 195 | C18: 151 | E18: ='Table 1- 3Q26 GAAP '!C18 -> 184 | F18: ='Table 1- 3Q26 GAAP '!H18 -> 530 | J18: 69 | K18: 560 | L18: 629 | M18: 47 | N18: 676 | O18: 213 | P18: 889 | R18: * | S18: =(F18-N18)/N18 -> -0.21597633
A19: Other (income) expense, net | B19: 138 | C19: 99 | E19: ='Table 1- 3Q26 GAAP '!C19 -> 27 | F19: ='Table 1- 3Q26 GAAP '!H19 -> 262 | J19: -35 | K19: -7 | L19: -43 | M19: -238 | N19: -281 | O19: 432 | P19: 151 | R19: * | S19: *
A20: (Loss) Income Before Taxes | B20: -3534 | C20: =C12-C15-C16-C17-C18-C19 -> -683 | E20: =E12-E15-E16-E17-E18-E19 -> 5559 | F20: =F12-F15-F16-F17-F18-F19 -> 1342 | J20: =J12-J15-J16-J17-J18-J19 -> 5903 | K20: =K12-K15-K16-K17-K18-K19 -> 4999 | L20: 10902 | M20: =M12-M15-M16-M17-M18-M19 -> 6745 | N20: =N12-N15-N16-N17-N18-N19 -> 17647 | O20: =O12-O15-O16-O17-O18-O19 -> 3420 | P20: =P12-P15-P16-P17-P18-P19 -> 21067 | R20: =(E20-M20)/M20 -> -0.17583395 | S20: =(F20-N20)/N20 -> -0.92395308
A21: Income Tax Provision | B21: 709 | C21: 654 | E21: ='Table 1- 3Q26 GAAP '!C21 -> 492 | F21: ='Table 1- 3Q26 GAAP '!H21 -> 1855 | J21: 818 | K21: 571 | L21: 1388 | M21: 958 | N21: 2346 | O21: 458 | P21: 2804
A22: Net (Loss) Income | B22: -4243 | C22: =C20-C21 -> -1337 | E22: =E20-E21 -> 5067 | F22: =F20-F21 -> -513 | J22: =J20-J21 -> 5085 | K22: =K20-K21 -> 4428 | L22: 9514 | M22: =M20-M21 -> 5787 | N22: =N20-N21 -> 15301 | O22: =O20-O21 -> 2962 | P22: =P20-P21 -> 18263 | R22: =(E22-M22)/M22 -> -0.1244168 | S22: *
A23: Less: Net (Loss) Income Attributable to Noncontrolling Interests | B23: -3 | C23: -2 | E23: ='Table 1- 3Q26 GAAP '!C23 -> 2 | F23: ='Table 1- 3Q26 GAAP '!H23 -> -3 | J23: 6 | K23: 1 | L23: 8 | M23: 2 | N23: 10 | O23: -1 | P23: 9
A24: Net (Loss) Income Attributable to Merck & Co., Inc., Rahway, N.J., USA | B24: -4240 | C24: =C22-C23 -> -1335 | E24: =E22-E23 -> 5065 | F24: =F22-F23 -> -510 | J24: =J22-J23 -> 5079 | K24: =K22-K23 -> 4427 | L24: 9506 | M24: =M22-M23 -> 5785 | N24: =N22-N23 -> 15291 | O24: =O22-O23 -> 2963 | P24: =P22-P23 -> 18254 | R24: =(E24-M24)/M24 -> -0.12445981 | S24: *
A26: (Loss) Earnings per Common Share Assuming Dilution (1) | B26: -1.7152104 | C26: =C24/C28 -> -0.54048583 | E26: =E24/E28 -> 2.0439871 | F26: =F24/F28 -> -0.20639417 | J26: =J24/J28 -> 2.0067167 | K26: =K24/K28 -> 1.7616395 | L26: 3.7692308 | M26: =M24/M28 -> 2.3158527 | N26: =N24/N28 -> 6.0823389 | O26: =O24/O28 -> 1.1909164 | P26: =P24/P28 -> 7.2812126 | R26: =(E26-M26)/M26 -> -0.1173933 | S26: *
A28: Average Shares Outstanding Assuming Dilution (1) | B28: 2472 | C28: 2470 | E28: ='Table 1- 3Q26 GAAP '!C28 -> 2478 | F28: ='Table 1- 3Q26 GAAP '!H28 -> 2471 | J28: 2531 | K28: 2513 | L28: 2522 | M28: 2498 | N28: 2514 | O28: 2488 | P28: 2507
A29: Effective Income Tax Rate | B29: -0.20062252 | C29: -0.9591 | E29: =E21/E20 -> 0.088505127 | F29: =F21/F20 -> 1.3822653 | J29: =J21/J20 -> 0.13857361 | K29: =K21/K20 -> 0.11422284 | L29: 0.12731609 | M29: =M21/M20 -> 0.14203113 | N29: =N21/N20 -> 0.13294044 | O29: =O21/O20 -> 0.13391813 | P29: =P21/P20 -> 0.13309916
A31: * 100% or greater
A32: Sum of quarterly amounts may not equal year-to-date amounts due to rounding.
A34: (1) Because the Company recorded a net loss in the first and second quarters of 2026, as well as the first nine months of 2026, no potential dilutive common shares were used in the computations of loss per common share assuming dilution as the effects would have been anti-dilutive.

Sheet Table 2a - 3Q26 NONGAAP
A1: MERCK & CO., INC., RAHWAY, N.J., USA
A2: THREE AND NINE MONTHS ENDED SEPTEMBER 30, 2026 GAAP TO NON-GAAP RECONCILIATION
A3: (AMOUNTS IN MILLIONS, EXCEPT PER SHARE FIGURES)
A4: (UNAUDITED)
A5: Table 2a
C7: GAAP | E7: Acquisition- and Divestiture-Related Costs (1) | G7: Restructuring Costs (2) | I7: (Income) Loss from Investments in Equity Securities | K7: Certain Other Items | M7: Adjustment Subtotal | O7: Non-GAAP
A9: Third Quarter
A10: Cost of sales | C10: ='Table 1- 3Q26 GAAP '!C15 -> 4892 | E10: 1140 | G10: 396 | M10: =SUM(E10:K10) -> 1536 | O10: =C10-M10 -> 3356
A11: Selling, general and administrative | C11: ='Table 1- 3Q26 GAAP '!C16 -> 2886 | E11: 24 | M11: =SUM(E11:K11) -> 24 | O11: =C11-M11 -> 2862
A12: Research and development | C12: ='Table 1- 3Q26 GAAP '!C17 -> 4537 | E12: 3 | G12: 1 | M12: =SUM(E12:K12) -> 4 | O12: =C12-M12 -> 4533
A13: Restructuring costs | C13: ='Table 1- 3Q26 GAAP '!C18 -> 184 | G13: 184 | M13: =SUM(E13:K13) -> 184 | O13: –
A14: Other (income) expense, net | C14: ='Table 1- 3Q26 GAAP '!C19 -> 27 | I14: -393 | M14: =SUM(E14:K14) -> -393 | O14: =C14-M14 -> 420
A15: Income Before Taxes | C15: ='Table 1- 3Q26 GAAP '!C20 -> 5559 | E15: =-SUM(E10:E14) -> -1167 | G15: =-SUM(G10:G14) -> -581 | I15: =-SUM(I10:I14) -> 393 | K15: =-SUM(K10:K14) -> 0 | M15: =-SUM(M10:M14) -> -1355 | O15: =C15-M15 -> 6914
A16: Income Tax Provision (Benefit) | C16: ='Table 1- 3Q26 GAAP '!C21 -> 492 | E16: -239 | F16: (3) | G16: -105 | H16: (3) | I16: 83 | J16: (3) | M16: =SUM(E16:K16) -> -261 | O16: =C16-M16 -> 753
A17: Net Income | C17: ='Table 1- 3Q26 GAAP '!C22 -> 5067 | E17: =E15-E16 -> -928 | G17: =G15-G16 -> -476 | I17: =I15-I16 -> 310 | K17: =K15-K16 -> 0 | M17: =M15-M16 -> -1094 | O17: =C17-M17 -> 6161
A18: Net Income Attributable to Merck & Co., Inc., Rahway, N.J., USA | C18: ='Table 1- 3Q26 GAAP '!C24 -> 5065 | E18: =E17 -> -928 | G18: =G17 -> -476 | I18: =I17 -> 310 | K18: =K17 -> 0 | M18: =M17 -> -1094 | O18: =C18-M18 -> 6159
A19: Earnings per Common Share Assuming Dilution | C19: ='Table 1- 3Q26 GAAP '!C26 -> 2.0439871 | E19: -0.38 | G19: -0.19 | I19: 0.12 | M19: =SUM(E19:K19) -> -0.45 | O19: =C19-M19 -> 2.4939871
A21: Effective Income Tax Rate | C21: ='Table 1- 3Q26 GAAP '!C29 -> 0.088505127 | O21: =O16/O15 -> 0.10890946
A23: September YTD
A24: Cost of sales | C24: ='Table 1- 3Q26 GAAP '!H15 -> 13482 | E24: 3221 | G24: 817 | M24: =SUM(E24:K24) -> 4038 | O24: =C24-M24 -> 9444
A25: Selling, general and administrative | C25: ='Table 1- 3Q26 GAAP '!H16 -> 8491 | E25: 73 | M25: =SUM(E25:K25) -> 73 | O25: =C25-M25 -> 8418
A26: Research and development | C26: ='Table 1- 3Q26 GAAP '!H17 -> 26871 | E26: 9 | G26: 34 | M26: =SUM(E26:K26) -> 43 | O26: =C26-M26 -> 26828
A27: Restructuring costs | C27: ='Table 1- 3Q26 GAAP '!H18 -> 530 | G27: 530 | M27: =SUM(E27:K27) -> 530 | O27: –
A28: Other (income) expense, net | C28: ='Table 1- 3Q26 GAAP '!H19 -> 262 | I28: -764 | M28: =SUM(E28:K28) -> -764 | O28: =C28-M28 -> 1026
A29: Income Before Taxes | C29: ='Table 1- 3Q26 GAAP '!H20 -> 1342 | E29: =-SUM(E24:E28) -> -3303 | G29: =-SUM(G24:G28) -> -1381 | I29: =-SUM(I24:I28) -> 764 | K29: =-SUM(K24:K28) -> 0 | M29: =-SUM(M24:M28) -> -3920 | O29: =C29-M29 -> 5262
A30: Income Tax Provision (Benefit) | C30: ='Table 1- 3Q26 GAAP '!H21 -> 1855 | E30: -660 | F30: (3) | G30: -240 | H30: (3) | I30: 163 | J30: (3) | M30: =SUM(E30:K30) -> -737 | O30: =C30-M30 -> 2592
A31: Net (Loss) Income | C31: ='Table 1- 3Q26 GAAP '!H22 -> -513 | E31: =E29-E30 -> -2643 | G31: =G29-G30 -> -1141 | I31: =I29-I30 -> 601 | K31: =K29-K30 -> 0 | M31: =M29-M30 -> -3183 | O31: =C31-M31 -> 2670
A32: Net (Loss) Income Attributable to Merck & Co., Inc., Rahway, N.J., USA | C32: ='Table 1- 3Q26 GAAP '!H24 -> -510 | E32: =E31 -> -2643 | G32: =G31 -> -1141 | I32: =I31 -> 601 | K32: =K31 -> 0 | M32: =M31 -> -3183 | O32: =C32-M32 -> 2673
A33: (Loss) Earnings per Common Share Assuming Dilution (4) | C33: ='Table 1- 3Q26 GAAP '!H26 -> -0.20639417 | E33: -1.07 | G33: -0.46 | I33: 0.24 | M33: =SUM(E33:K33) -> -1.29 | O33: =C33-M33 -> 1.0836058
A35: Effective Income Tax Rate | C35: ='Table 1- 3Q26 GAAP '!H29 -> 1.3822653 | O35: =O30/O29 -> 0.49258837
A38: Only the line items that are affected by non-GAAP adjustments are shown.
A39: The Company is providing certain non-GAAP information that excludes certain items because of the nature of these items and the impact they have on the analysis of underlying business performance and trends. Management believes that providing non-GAAP information enhances investors’ understanding of the Company’s results because management uses non-GAAP measures to assess performance. Management uses non-GAAP measures internally for planning and forecasting purposes and to measure the performance of the Company along with other metrics. In addition, annual employee compensation, including senior management’s compensation, is derived in part using a non-GAAP pretax income metric. The non-GAAP information presented should be considered in addition to, but not as a substitute for or superior to, information prepared in accordance with GAAP.
A41: (1) Amounts included in cost of sales reflect expenses for the amortization of intangible assets, as well as the recognition of fair value step-up of inventories related to the 2025 Verona Pharma plc acquisition. Amounts included in selling, general and administrative expenses reflect integration, transaction and certain other costs related to acquisitions and divestitures.
A42: (2) Amounts primarily include employee separation costs, accelerated depreciation and asset impairment charges associated with facilities to be closed or divested, as well as contractual termination costs, related to activities under the Company's formal restructuring programs.
A43: (3) Represents the estimated tax impacts on the reconciling items based on applying the statutory rate of the originating territory of the non-GAAP adjustments.
A44: (4) Because the Company recorded a net loss in the first nine months of 2026, no potential dilutive common shares were used in the computation of loss per common share assuming dilution as the effect would have been anti-dilutive.

Sheet Table 2b - 3Q25 NONGAAP
A1: MERCK & CO., INC., RAHWAY, N.J., USA
A2: THREE AND NINE MONTHS ENDED SEPTEMBER 30, 2025 GAAP TO NON-GAAP RECONCILIATION
A3: (AMOUNTS IN MILLIONS, EXCEPT PER SHARE FIGURES)
A4: (UNAUDITED)
A5: Table 2b
C7: GAAP | E7: Acquisition- and Divestiture-Related Costs (1) | G7: Restructuring Costs (2) | I7: (Income) Loss from Investments in Equity Securities | K7: Certain Other Items | M7: Adjustment Subtotal | O7: Non-GAAP
A9: Third Quarter
A10: Cost of sales | C10: 3855 | E10: 621 | G10: 110 | M10: =SUM(E10:K10) -> 731 | O10: =C10-M10 -> 3124
A11: Selling, general and administrative | C11: 2633 | E11: 34 | M11: =SUM(E11:K11) -> 34 | O11: =C11-M11 -> 2599
A12: Research and development | C12: 4234 | E12: 4 | G12: 233 | M12: =SUM(E12:K12) -> 237 | O12: =C12-M12 -> 3997
A13: Restructuring costs | C13: 47 | G13: 47 | M13: =SUM(E13:K13) -> 47 | O13: –
A14: Other (income) expense, net | C14: -238 | I14: -344 | M14: =SUM(E14:K14) -> -344 | O14: =C14-M14 -> 106
A15: Income Before Taxes | C15: 6745 | E15: =-SUM(E10:E14) -> -659 | G15: =-SUM(G10:G14) -> -390 | I15: =-SUM(I10:I14) -> 344 | M15: =-SUM(M10:M14) -> -705 | O15: =C15-M15 -> 7450
A16: Income Tax Provision (Benefit) | C16: 958 | E16: -119 | F16: (3) | G16: -82 | H16: (3) | I16: 73 | J16: (3) | K16: 86 | L16: (4) | M16: =SUM(E16:K16) -> -42 | O16: =C16-M16 -> 1000
A17: Net Income | C17: 5787 | E17: =E15-E16 -> -540 | G17: =G15-G16 -> -308 | I17: =I15-I16 -> 271 | K17: =K15-K16 -> -86 | M17: =M15-M16 -> -663 | O17: =C17-M17 -> 6450
A18: Net Income Attributable to Merck & Co., Inc., Rahway, N.J., USA | C18: 5785 | E18: =E17 -> -540 | G18: =G17 -> -308 | I18: =I17 -> 271 | K18: =K17 -> -86 | M18: =M17 -> -663 | O18: =C18-M18 -> 6448
A19: Earnings per Common Share Assuming Dilution | C19: 2.3158527 | E19: -0.22 | G19: -0.12 | I19: 0.11 | K19: -0.03 | M19: =SUM(E19:K19) -> -0.26 | O19: =C19-M19 -> 2.5758527
A21: Effective Income Tax Rate | C21: 0.14203113 | O21: =O16/O15 -> 0.13422819
A23: September YTD
A24: Cost of sales | C24: 10831 | E24: 1817 | G24: 311 | M24: =SUM(E24:K24) -> 2128 | O24: =C24-M24 -> 8703
A25: Selling, general and administrative | C25: 7835 | E25: 72 | G25: 1 | M25: =SUM(E25:K25) -> 73 | O25: =C25-M25 -> 7762
A26: Research and development | C26: 11903 | E26: 14 | G26: 286 | M26: =SUM(E26:K26) -> 300 | O26: =C26-M26 -> 11603
A27: Restructuring costs | C27: 676 | G27: 676 | M27: =SUM(E27:K27) -> 676 | O27: –
A28: Other (income) expense, net | C28: -281 | E28: -3 | I28: -512 | M28: =SUM(E28:K28) -> -515 | O28: =C28-M28 -> 234
A29: Income Before Taxes | C29: 17647 | E29: =-SUM(E24:E28) -> -1900 | G29: =-SUM(G24:G28) -> -1274 | I29: =-SUM(I24:I28) -> 512 | M29: =-SUM(M24:M28) -> -2662 | O29: =C29-M29 -> 20309
A30: Income Tax Provision (Benefit) | C30: 2346 | E30: -338 | F30: (3) | G30: -239 | H30: (3) | I30: 109 | J30: (3) | K30: -60 | L30: (4) | M30: =SUM(E30:K30) -> -528 | O30: =C30-M30 -> 2874
A31: Net Income | C31: 15301 | E31: =E29-E30 -> -1562 | G31: =G29-G30 -> -1035 | I31: =I29-I30 -> 403 | K31: =K29-K30 -> 60 | M31: =M29-M30 -> -2134 | O31: =C31-M31 -> 17435
A32: Net Income Attributable to Merck & Co., Inc., Rahway, N.J., USA | C32: 15291 | E32: =E31 -> -1562 | G32: =G31 -> -1035 | I32: =I31 -> 403 | K32: =K31 -> 60 | M32: =M31 -> -2134 | O32: =C32-M32 -> 17425
A33: Earnings per Common Share Assuming Dilution | C33: 6.0823389 | E33: -0.62 | G33: -0.41 | I33: 0.16 | K33: 0.02 | M33: =SUM(E33:K33) -> -0.85 | O33: =C33-M33 -> 6.9323389
A35: Effective Income Tax Rate | C35: 0.13294044 | O35: =O30/O29 -> 0.14151361
A38: Only the line items that are affected by non-GAAP adjustments are shown.
A39: The Company is providing certain non-GAAP information that excludes certain items because of the nature of these items and the impact they have on the analysis of underlying business performance and trends. Management believes that providing non-GAAP information enhances investors’ understanding of the Company’s results because management uses non-GAAP measures to assess performance. Management uses non-GAAP measures internally for planning and forecasting purposes and to measure the performance of the Company along with other metrics. In addition, annual employee compensation, including senior management’s compensation, is derived in part using a non-GAAP pretax income metric. The non-GAAP information presented should be considered in addition to, but not as a substitute for or superior to, information prepared in accordance with GAAP.
A41: (1) Amounts included in cost of sales for the third quarter reflect expenses for the amortization of intangible assets. Amounts included in cost of sales for the nine-month period include the amortization of intangible assets and intangible asset impairment charges, partially offset by a decrease in the estimated fair value measurement of liabilities for contingent consideration. Amounts included in selling, general and administrative expenses reflect integration, transaction and certain other costs related to acquisitions and divestitures. Amounts included in research and development expenses reflect the amortization of intangible assets.
A42: (2) Amounts primarily include employee separation costs, accelerated depreciation and asset impairment charges associated with facilities to be closed or divested, as well as contractual termination costs, related to activities under the Company's formal restructuring programs.
A43: (3) Represents the estimated tax impacts on the reconciling items based on applying the statutory rate of the originating territory of the non-GAAP adjustments.
A44: (4) Amount in the third quarter represents tax expense relating to audit reserve adjustments. Amount in the nine-month period represents a tax benefit, including a net benefit related to favorable audit reserve adjustments.

Sheet Table 3-Curr.&Prior by Qtr
A1: MERCK & CO., INC., RAHWAY, N.J., USA
A2: FRANCHISE / KEY PRODUCT SALES
A3: (AMOUNTS IN MILLIONS)
A4: (UNAUDITED)
A5: Table 3
B7: 2026 | J7: 2025 | R7: 3Q | U7: Sep YTD
B8: 1Q | C8: 2Q | D8: June YTD | E8: 3Q | F8: Sep YTD | G8: 4Q | H8: Full Year | J8: 1Q | K8: 2Q | L8: June YTD | M8: 3Q | N8: Sep YTD | O8: 4Q | P8: Full Year | R8: Nom % | S8: Ex-Exch % | U8: Nom % | V8: Ex-Exch %
A9: TOTAL SALES (1) | B9: 16286.139 | C9: 16606.903 | E9: 18085.446 | F9: 50978.488 | J9: 15529.319 | K9: 15805.929 | M9: 17276.002 | N9: 48611.251 | O9: 16400.276 | P9: 65010.527 | R9: 4.6853661 | S9: 4.2972641 | U9: 4.8697324 | V9: 3.7541249
A10: PHARMACEUTICAL | B10: 14349.141 | C10: 14759.826 | E10: 16268.358 | F10: 45377.325 | J10: 13638.183 | K10: 14049.927 | M10: 15611.077 | N10: 43299.187 | O10: 14842.979 | P10: 58142.166 | R10: 4.2103507 | S10: 4.4788869 | U10: 4.7994845 | V10: 3.7383272
A11: Oncology
A12: Keytruda | B12: 7906.2291 | C12: 7903.8352 | E12: 7771.2656 | F12: 23581.33 | J12: 7204.7062 | K12: 7956.4565 | M12: 8142.1978 | N12: 23303.36 | O12: 8337.2704 | P12: 31640.631 | R12: -4.5556756 | S12: -4.227378 | U12: 1.1928296 | V12: 0
A13: Keytruda Qlex | B13: 127.51274 | C13: 462.61116 | E13: 829.72907 | F13: 1419.853 | J13: 0 | K13: 0 | M13: 4.7866656 | N13: 4.7866656 | O13: 35.005896 | P13: 39.792562 | R13: * | S13: * | U13: * | V13: *
A14: Alliance Revenue – Lynparza (2) | B14: 341.19686 | C14: 365.01201 | E14: 352.49009 | F14: 1058.699 | J14: 312.13566 | K14: 369.71567 | M14: 378.97253 | N14: 1060.8239 | O14: 389.01646 | P14: 1449.8403 | R14: -6.9879574 | S14: -7.2778487 | U14: 0 | V14: -1.6082883
A15: Alliance Revenue – Lenvima (2) | B15: 255.94397 | C15: 283.30731 | E15: 286.61001 | F15: 825.86129 | J15: 257.92358 | K15: 265.46109 | M15: 258.09816 | N15: 781.48283 | O15: 271.58257 | P15: 1053.0654 | R15: 11.046902 | S15: 10.721255 | U15: 5.6787498 | V15: 4.9377237
A16: Welireg | B16: 198.86649 | C16: 270.74984 | E16: 306.53332 | F16: 776.14965 | J16: 137.25506 | K16: 162.33897 | M16: 196.32897 | N16: 495.923 | O16: 219.95257 | P16: 715.87558 | R16: 56.132494 | S16: 57.539503 | U16: 56.50608 | V16: 56.824268
A17: Alliance Revenue – Reblozyl (3) | B17: 148.06358 | C17: 122.38047 | E17: 177.43308 | F17: 447.87712 | J17: 118.92471 | K17: 106.73093 | M17: 135.72608 | N17: 361.38172 | O17: 163.60203 | P17: 524.98375 | R17: 30.728798 | S17: 30.728798 | U17: 23.934638 | V17: 23.934638
A18: Vaccines & Infectious Diseases
A19: Gardasil/Gardasil 9 | B19: 1069.1184 | C19: 1168.5665 | E19: 1994.791 | F19: 4232.4759 | J19: 1326.579 | K19: 1126.4821 | M19: 1748.968 | N19: 4202.0291 | O19: 1030.736 | P19: 5232.7651 | R19: 14.05532 | S19: 14.279606 | U19: 0.72457494 | V19: 0
A20: ProQuad/M-M-R II/Varivax | B20: 537.98074 | C20: 592.03501 | E20: 730.2528 | F20: 1860.2685 | J20: 538.80666 | K20: 608.89416 | M20: 683.93309 | N20: 1831.6339 | O20: 618.97468 | P20: 2450.6086 | R20: 6.7725496 | S20: 6.948283 | U20: 1.5633385 | V20: 0.90960985
A21: Bridion | B21: 472.06536 | C21: 496.80398 | E21: 144.39297 | F21: 1113.2623 | J21: 441.48381 | K21: 460.92809 | M21: 438.87136 | N21: 1341.2833 | O21: 499.39484 | P21: 1840.6781 | R21: -67.099021 | S21: -67.099391 | U21: -17.000208 | V21: -17.172742
A22: Prevymis | B22: 272.48442 | C22: 295.24384 | E22: 346.98179 | F22: 914.71004 | J22: 208.01849 | K22: 228.27977 | M22: 266.0632 | N22: 702.36146 | O22: 275.32463 | P22: 977.68609 | R22: 30.413294 | S22: 31.197896 | U22: 30.233518 | V22: 28.63725
A23: Capvaxive | B23: 141.51492 | C23: 183.54108 | E23: 262.86338 | F23: 587.91938 | J23: 106.58841 | K23: 129.34583 | M23: 244.40584 | N23: 480.34008 | O23: 278.69906 | P23: 759.03914 | R23: 7.5520054 | S23: 7.3900045 | U23: 22.396488 | V23: 21.512381
A24: Vaxneuvance | B24: 201.81346 | C24: 148.20976 | E24: 195.32025 | F24: 545.34347 | J24: 230.31592 | K24: 228.89131 | M24: 225.86131 | N24: 685.06853 | O24: 139.95275 | P24: 825.02129 | R24: -13.52204 | S24: -12.790834 | U24: -20.395779 | V24: -21.751842
A25: RotaTeq | B25: 206.32903 | C25: 133.66374 | E25: 195.8511 | F25: 535.84388 | J25: 228.09349 | K25: 121.27436 | M25: 204.26963 | N25: 553.63747 | O25: 119.11716 | P25: 672.75463 | R25: -4.1212808 | S25: -4.2600134 | U25: -3.2139431 | V25: -4.0129992
A26: Zerbaxa | B26: 81.896182 | C26: 77.227073 | E26: 89.978556 | F26: 249.10181 | J26: 70.071195 | K26: 74.492791 | M26: 80.817014 | N26: 225.381 | O26: 86.59536 | P26: 311.97636 | R26: 11.336155 | S26: 11.151778 | U26: 10.524761 | V26: 9.068124
A27: Delstrigo | B27: 74.937105 | C27: 101.23668 | E27: 67.298654 | F27: 243.47244 | J27: 66.80016 | K27: 83.463093 | M27: 77.255561 | N27: 227.51881 | O27: 78.929013 | P27: 306.44783 | R27: -12.888272 | S27: -11.985238 | U27: 7.0120032 | V27: 2.7856768
A28: Enflonsia | B28: 1.38587 | C28: 1.8912814 | E28: 186.68763 | F28: 189.96478 | J28: 0 | K28: 0 | M28: 78.535541 | N28: 78.535541 | O28: 21.294566 | P28: 99.830107 | R28: 137.71102 | S28: 135.55106 | U28: 141.88384 | V28: 139.71085
A29: Isentress/Isentress HD | B29: 59.108735 | C29: 60.125404 | E29: 52.050674 | F29: 171.28481 | J29: 90.095998 | K29: 86.198772 | M29: 81.560063 | N29: 257.85483 | O29: 66.880518 | P29: 324.73535 | R29: -36.181175 | S29: -35.568596 | U29: -33.573162 | V29: -34.14547
A30: Dificid | B30: 33.800191 | C30: 22.440304 | E30: 13.937219 | F30: 70.177715 | J30: 82.792069 | K30: 95.756377 | M30: 43.181449 | N30: 221.72989 | O30: 24.974769 | P30: 246.70466 | R30: -67.724058 | S30: -67.687745 | U30: -68.349909 | V30: -68.39895
A31: Lagevrio | B31: 27.861551 | C31: 4.5230707 | E31: 16.860183 | F31: 49.244804 | J31: 101.90221 | K31: 82.692647 | M31: 138.18026 | N31: 322.77512 | O31: 56.751146 | P31: 379.52627 | R31: -87.798415 | S31: -87.749331 | U31: -84.743308 | V31: -84.815949
A32: Cardiometabolic, Respiratory, & Specialty
A33: Winrevair | B33: 525.16769 | C33: 588.35347 | E33: 694.36068 | F33: 1807.8818 | J33: 279.67477 | K33: 335.77739 | M33: 360.21279 | N33: 975.66495 | O33: 466.94828 | P33: 1442.6132 | R33: 92.764025 | S33: 93.561766 | U33: 85.297405 | V33: 85.411497
A34: Januvia | B34: 367.11615 | C34: 258.05763 | E34: 186.21766 | F34: 811.39145 | J34: 548.72454 | K34: 371.85938 | M34: 381.51547 | N34: 1302.0994 | O34: 301.84869 | P34: 1603.9481 | R34: -51.19001 | S34: -50.449764 | U34: -37.685905 | V34: -37.489764
A35: Janumet | B35: 207.28227 | C35: 170.80753 | E35: 193.85716 | F35: 571.94696 | J35: 246.85601 | K35: 251.38458 | M35: 242.63488 | N35: 740.87546 | O35: 198.92526 | P35: 939.80072 | R35: -20.103342 | S35: -20.247926 | U35: -22.801201 | V35: -23.612459
A36: Ohtuvayre | B36: 131.09121 | C36: 203.70672 | E36: 183.78833 | F36: 518.58627 | J36: 0 | K36: 0 | M36: 0 | N36: 0 | O36: 177.69541 | P36: 177.69541 | R36: - | S36: - | U36: - | V36: -
A37: Alliance Revenue - Adempas/Verquvo (4) | B37: 108.62196 | C37: 126.48861 | E37: 117.84845 | F37: 352.95902 | J37: 105.80331 | K37: 122.83476 | M37: 111.70485 | N37: 340.34292 | O37: 129.4914 | P37: 469.83431 | R37: 5.4998573 | S37: 5.4998573 | U37: 3.7068797 | V37: 3.7068797
A38: Adempas (5) | B38: 78.459429 | C38: 77.775856 | E38: 77.997076 | F38: 234.23236 | J38: 67.752332 | K38: 79.572296 | M38: 81.754245 | N38: 229.07887 | O38: 82.532954 | P38: 311.61183 | R38: -4.5956864 | S38: -2.7635186 | U38: 2.2496565 | V38: -0.66453831
A39: Other Pharmaceutical (6) | B39: 774 | C39: 641 | E39: 793 | F39: 2209 | J39: 865 | K39: 703 | M39: 1004 | N39: 2573 | O39: 770 | P39: 3340 | R39: -21.015936 | S39: -21.015936 | U39: -14.212972 | V39: -14.767019
A40: ANIMAL HEALTH | B40: 1791.1001 | C40: 1775.3648 | E40: 1676.2449 | F40: 5242.7099 | J40: 1588.32 | K40: 1645.6284 | M40: 1615.4677 | N40: 4849.4161 | O40: 1504.7057 | P40: 6354.1218 | R40: 3.7622082 | S40: 3.4375027 | U40: 8.1101261 | V40: 5.0519195
A41: Livestock | B41: 1064 | C41: 1041 | E41: 1048 | F41: 3154 | J41: 924 | K41: 961 | M41: 1023 | N41: 2909 | O41: 987 | P41: 3896 | R41: 2.3948811 | S41: 2.0043694 | U41: 8.4053194 | V41: 5.1847561
...

Sheet Table 3a-US~Intl 3Q26 
A1: MERCK & CO., INC., RAHWAY, N.J., USA
A2: FRANCHISE / KEY PRODUCT SALES
A3: THIRD QUARTER 2026
A4: (AMOUNTS IN MILLIONS)
A5: (UNAUDITED)
A6: Table 3a
B8: Global | F8: U.S. | J8: International
B9: 3Q 2026 | C9: 3Q 2025 | D9: % Change | F9: 3Q 2026 | G9: 3Q 2025 | H9: % Change | J9: 3Q 2026 | K9: 3Q 2025 | L9: % Change
A10: TOTAL SALES (1) | B10: 18085.446 | C10: 17276.002 | D10: 4.6853661 | F10: 10614.856 | G10: 10012.29 | H10: 6.0182647 | J10: 7470.5906 | K10: 7263.7128 | L10: 2.848101
A11: PHARMACEUTICAL | B11: 16268.358 | C11: 15611.077 | D11: 4.2103507 | F11: 10119.085 | G11: 9492.9549 | H11: 6.5957392 | J11: 6149.2728 | K11: 6118.1222 | L11: 0.50915194
A12: Oncology
A13: Keytruda | B13: 7771.2656 | C13: 8142.1978 | D13: -4.5556756 | F13: 4520.2365 | G13: 4879.3036 | H13: -7.3589823 | J13: 3251.0291 | K13: 3262.8941 | L13: 0 | Q13: 0
A14: Keytruda Qlex | B14: 829.72907 | C14: 4.7866656 | D14: * | F14: 693.46798 | G14: 4.7866656 | H14: * | J14: 136.26109 | K14: 0 | L14: - | Q14: 0
A15: Alliance Revenue – Lynparza (2) | B15: 352.49009 | C15: 378.97253 | D15: -6.9879574 | F15: 170.67603 | G15: 183.68002 | H15: -7.0796973 | J15: 181.81406 | K15: 195.29251 | L15: -6.9016725 | Q15: 0
A16: Welireg | B16: 306.53332 | C16: 196.32897 | D16: 56.132494 | F16: 237.04973 | G16: 160.96797 | H16: 47.265157 | J16: 69.483591 | K16: 35.361005 | L16: 96.497783 | Q16: 0
A17: Alliance Revenue – Lenvima (2) | B17: 286.61001 | C17: 258.09816 | D17: 11.046902 | F17: 203.51859 | G17: 177.12567 | H17: 14.900674 | J17: 83.091414 | K17: 80.972484 | L17: 2.6168524 | Q17: 0
A18: Alliance Revenue – Reblozyl (3) | B18: 177.43308 | C18: 135.72608 | D18: 30.728798 | F18: 144.66311 | G18: 110.6691 | H18: 30.716802 | J18: 32.769965 | K18: 25.05698 | L18: 30.781782 | Q18: 0
A19: Vaccines & Infectious Diseases | Q19: 0
A20: Gardasil/Gardasil 9 | B20: 1994.791 | C20: 1748.968 | D20: 14.05532 | F20: 1365.6314 | G20: 1153.5324 | H20: 18.386907 | J20: 629.15965 | K20: 595.43554 | L20: 5.663771 | Q20: 0
A21: ProQuad/M-M-R II/Varivax | B21: 730.2528 | C21: 683.93309 | D21: 6.7725496 | F21: 561.39497 | G21: 554.32341 | H21: 1.2757099 | J21: 168.85783 | K21: 129.60968 | L21: 30.281803 | Q21: 0
A22: Prevymis | B22: 346.98179 | C22: 266.0632 | D22: 30.413294 | F22: 189.30307 | G22: 127.94022 | H22: 47.962129 | J22: 157.67872 | K22: 138.12298 | L22: 14.158203 | Q22: 0
A23: Capvaxive | B23: 262.86338 | C23: 244.40584 | D23: 7.5520054 | F23: 207.42654 | G23: 237.62606 | H23: -12.708842 | J23: 55.436843 | K23: 6.77978 | L23: * | Q23: 0
A24: RotaTeq | B24: 195.8511 | C24: 204.26963 | D24: -4.1212808 | F24: 150.2996 | G24: 141.4359 | H24: 6.2669334 | J24: 45.551508 | K24: 62.833727 | L24: -27.504685 | Q24: 0
A25: Vaxneuvance | B25: 195.32025 | C25: 225.86131 | D25: -13.52204 | F25: 110.64777 | G25: 134.47149 | H25: -17.716561 | J25: 84.672484 | K25: 91.389817 | L25: -7.3501988 | Q25: 0
A26: Enflonsia | B26: 186.68763 | C26: 78.535541 | D26: 137.71102 | F26: 141.29434 | G26: 78.476665 | H26: 80.046315 | J26: 45.393289 | K26: 0 | L26: - | Q26: 0
A27: Bridion | B27: 144.39297 | C27: 438.87136 | D27: -67.099021 | F27: 108.31762 | G27: 391.65578 | H27: -72.343667 | J27: 36.07535 | K27: 47.21558 | L27: -23.594394 | Q27: 0
A28: Zerbaxa | B28: 89.978556 | C28: 80.817014 | D28: 11.336155 | F28: 55.785808 | G28: 48.534615 | H28: 14.940251 | J28: 34.192748 | K28: 32.2824 | L28: 5.9176172 | Q28: 0
A29: Delstrigo | B29: 67.298654 | C29: 77.255561 | D29: -12.888272 | F29: 12.872651 | G29: 13.336244 | H29: -3.4761898 | J29: 54.426003 | K29: 63.919316 | L29: -14.852026 | Q29: 0
A30: Isentress/Isentress HD | B30: 52.050674 | C30: 81.560063 | D30: -36.181175 | F30: 30.765229 | G30: 44.462331 | H30: -30.806081 | J30: 21.285445 | K30: 37.097732 | L30: -42.623325 | Q30: 0
A31: Lagevrio | B31: 16.860183 | C31: 138.18026 | D31: -87.798415 | F31: 7.0414835 | G31: 24.114253 | H31: -70.799496 | J31: 9.8186991 | K31: 114.06601 | L31: -91.39209 | Q31: 0
A32: Dificid | B32: 13.937219 | C32: 43.181449 | D32: -67.724058 | F32: 6.75567 | G32: 30.310516 | H32: -77.711795 | J32: 7.1815492 | K32: 12.870933 | L32: -44.20335 | Q32: 0
A33: Cardiometabolic, Respiratory, & Specialty | Q33: 0
A34: Winrevair | B34: 694.36068 | C34: 360.21279 | D34: 92.764025 | F34: 610.20363 | G34: 335.42728 | H34: 81.918308 | J34: 84.157048 | K34: 24.785515 | L34: * | Q34: 0
A35: Janumet | B35: 193.85716 | C35: 242.63488 | D35: -20.103342 | F35: 60.762026 | G35: 77.87206 | H35: -21.971982 | J35: 133.09513 | K35: 164.76282 | L35: -19.220165 | Q35: 0
A36: Januvia | B36: 186.21766 | C36: 381.51547 | D36: -51.19001 | F36: 77.77574 | G36: 258.0086 | H36: -69.855369 | J36: 108.44192 | K36: 123.50687 | L36: -12.197657 | Q36: 0
A37: Ohtuvayre | B37: 183.78833 | C37: 0 | D37: - | F37: 183.66789 | G37: 0 | H37: - | J37: 0 | K37: 0 | Q37: 0
A38: Alliance Revenue - Adempas/Verquvo (4) | B38: 117.84845 | C38: 111.70485 | D38: 5.4998573 | F38: 107.69872 | G38: 103.22854 | H38: 4.330363 | J38: 10.149739 | K38: 8.4763024 | L38: 19.74253 | Q38: 0
A39: Adempas (5) | B39: 77.997076 | C39: 81.754245 | D39: -4.5956864 | F39: 0 | G39: 0 | J39: 77.997076 | K39: 81.754245 | L39: -4.5956864 | Q39: 0
A40: Other Pharmaceutical (6) | B40: 793 | C40: 1004 | D40: -21.015936 | F40: 161 | G40: 223 | H40: -27.802691 | J40: 633 | K40: 784 | L40: -19.260204 | Q40: 0
A41: ANIMAL HEALTH | B41: 1676.2449 | C41: 1615.4677 | D41: 3.7622082 | F41: 492.57422 | G41: 503.87474 | H41: -2.2427251 | J41: 1183.6707 | K41: 1111.5929 | L41: 6.4841887
...

Sheet Table 3b-US~Intl Sep YTD 
A1: MERCK & CO., INC., RAHWAY, N.J., USA
A2: FRANCHISE / KEY PRODUCT SALES
A3: SEPTEMBER YEAR-TO-DATE 2026
A4: (AMOUNTS IN MILLIONS)
A5: (UNAUDITED)
A6: Table 3b
B8: Global | F8: U.S. | J8: International
B9: Sep YTD 2026 | C9: Sep YTD 2025 | D9: % Change | F9: Sep YTD 2026 | G9: Sep YTD 2025 | H9: % Change | J9: Sep YTD 2026 | K9: Sep YTD 2025 | L9: % Change
A10: TOTAL SALES (1) | B10: 50978.488 | C10: 48611.251 | D10: 4.8697324 | F10: 29146.469 | G10: 27371.031 | H10: 6.4865596 | J10: 21832.019 | K10: 21240.22 | L10: 2.7862217
A11: PHARMACEUTICAL | B11: 45377.325 | C11: 43299.187 | D11: 4.7994845 | F11: 27457.422 | G11: 25747.27 | H11: 6.6420703 | J11: 17919.903 | K11: 17551.917 | L11: 2.0965571
A12: Oncology
A13: Keytruda | B13: 23581.33 | C13: 23303.36 | D13: 1.1928296 | F13: 13730.579 | G13: 13936.196 | H13: -1.4754107 | J13: 9850.7504 | K13: 9367.1649 | L13: 5.16256
A14: Keytruda Qlex | B14: 1419.853 | C14: 4.7866656 | D14: * | F14: 1194.5842 | G14: 4.7866656 | H14: * | J14: 225.26873 | K14: 0 | L14: -
A15: Alliance Revenue – Lynparza (2) | B15: 1058.699 | C15: 1060.8239 | D15: 0 | F15: 486.07114 | G15: 502.78459 | H15: -3.3241767 | J15: 572.62781 | K15: 558.03927 | L15: 2.6142497
A16: Alliance Revenue – Lenvima (2) | B16: 825.86129 | C16: 781.48283 | D16: 5.6787498 | F16: 572.8337 | G16: 545.31173 | H16: 5.0470148 | J16: 253.02759 | K16: 236.1711 | L16: 7.1374063
A17: Welireg | B17: 776.14965 | C17: 495.923 | D17: 56.50608 | F17: 603.30978 | G17: 421.66662 | H17: 43.077433 | J17: 172.83987 | K17: 74.256377 | L17: 132.76098
A18: Alliance Revenue – Reblozyl (3) | B18: 447.87712 | C18: 361.38172 | D18: 23.934638 | F18: 370.3523 | G18: 299.29255 | H18: 23.742574 | J18: 77.52482 | K18: 62.08917 | L18: 24.860455
A19: Vaccines & Infectious Diseases
A20: Gardasil/Gardasil 9 | B20: 4232.4759 | C20: 4202.0291 | D20: 0.72457494 | F20: 2392.3231 | G20: 2235.2871 | H20: 7.0253144 | J20: 1840.1529 | K20: 1966.742 | L20: -6.4364872
A21: ProQuad/M-M-R II/Varivax | B21: 1860.2685 | C21: 1831.6339 | D21: 1.5633385 | F21: 1408.6815 | G21: 1457.4034 | H21: -3.3430571 | J21: 451.587 | K21: 374.23053 | L21: 20.670805
A22: Bridion | B22: 1113.2623 | C22: 1341.2833 | D22: -17.000208 | F22: 994.85434 | G22: 1180.7759 | H22: -15.745713 | J22: 118.40797 | K22: 160.50732 | L22: -26.228931
A23: Prevymis | B23: 914.71004 | C23: 702.36146 | D23: 30.233518 | F23: 471.663 | G23: 345.02623 | H23: 36.70352 | J23: 443.04705 | K23: 357.33524 | L23: 23.986386
A24: Capvaxive | B24: 587.91938 | C24: 480.34008 | D24: 22.396488 | F24: 463.71482 | G24: 472.50355 | H24: -1.8600335 | J24: 124.20456 | K24: 7.8365303 | L24: *
A25: Vaxneuvance | B25: 545.34347 | C25: 685.06853 | D25: -20.395779 | F25: 302.69559 | G25: 409.339 | H25: -26.05259 | J25: 242.64788 | K25: 275.72953 | L25: -11.997863
A26: RotaTeq | B26: 535.84388 | C26: 553.63747 | D26: -3.2139431 | F26: 399.03529 | G26: 366.18025 | H26: 8.9723657 | J26: 136.80859 | K26: 187.45722 | L26: -27.018765
A27: Zerbaxa | B27: 249.10181 | C27: 225.381 | D27: 10.524761 | F27: 150.94394 | G27: 136.01158 | H27: 10.978739 | J27: 98.157874 | K27: 89.369419 | L27: 9.8338501
A28: Delstrigo | B28: 243.47244 | C28: 227.51881 | D28: 7.0120032 | F28: 35.869614 | G28: 42.409036 | H28: -15.419879 | J28: 207.60283 | K28: 185.10978 | L28: 12.151194
A29: Enflonsia | B29: 189.96478 | C29: 78.535541 | D29: 141.88384 | F29: 140.30368 | G29: 78.476665 | H29: 78.78395 | J29: 49.661102 | K29: 0 | L29: -
A30: Isentress/Isentress HD | B30: 171.28481 | C30: 257.85483 | D30: -33.573162 | F30: 101.34045 | G30: 143.56142 | H30: -29.409687 | J30: 69.94436 | K30: 114.29342 | L30: -38.802809
A31: Dificid | B31: 70.177715 | C31: 221.72989 | D31: -68.349909 | F31: 41.604532 | G31: 184.98237 | H31: -77.50892 | J31: 28.573182 | K31: 36.747524 | L31: -22.244605
A32: Lagevrio | B32: 49.244804 | C32: 322.77512 | D32: -84.743308 | F32: 24.549731 | G32: 89.801361 | H32: -72.662184 | J32: 24.695074 | K32: 232.97376 | L32: -89.400062
A33: Cardiometabolic, Respiratory, & Specialty
A34: Winrevair | B34: 1807.8818 | C34: 975.66495 | D34: 85.297405 | F34: 1609.4495 | G34: 926.45543 | H34: 73.721204 | J34: 198.43231 | K34: 49.209523 | L34: *
A35: Januvia | B35: 811.39145 | C35: 1302.0994 | D35: -37.685905 | F35: 478.74109 | G35: 818.90732 | H35: -41.539039 | J35: 332.65036 | K35: 483.19207 | L35: -31.155666
A36: Janumet | B36: 571.94696 | C36: 740.87546 | D36: -22.801201 | F36: 156.35228 | G36: 210.40029 | H36: -25.688181 | J36: 415.59467 | K36: 530.47517 | L36: -21.65615
A37: Ohtuvayre | B37: 518.58627 | C37: 0 | D37: - | F37: 518.21434 | G37: 0 | H37: - | K37: 0
A38: Alliance Revenue - Adempas/Verquvo (4) | B38: 352.95902 | C38: 340.34292 | D38: 3.7068797 | F38: 328.78586 | G38: 308.42641 | H38: 6.6010733 | J38: 24.173155 | K38: 31.916506 | L38: -24.261274
A39: Adempas (5) | B39: 234.23236 | C39: 229.07887 | D39: 2.2496565 | F39: 0 | G39: 0 | J39: 234.23236 | K39: 229.07887 | L39: 2.2496565
A40: Other Pharmaceutical (6) | B40: 2209 | C40: 2573 | D40: -14.212972 | F40: 479 | G40: 633 | H40: -24.328594 | J40: 1725 | K40: 1944 | L40: -11.265432
A41: ANIMAL HEALTH | B41: 5242.7099 | C41: 4849.4161 | D41: 8.1101261 | F41: 1546.7994 | G41: 1504.6983 | H41: 2.7979805 | J41: 3695.9105 | K41: 3344.7179 | L41: 10.499917
...

Sheet Table 3c-Geographic Split
A1: MERCK & CO., INC., RAHWAY, N.J., USA
A2: PHARMACEUTICAL GEOGRAPHIC SALES
A3: (AMOUNTS IN MILLIONS)
A4: (UNAUDITED)
A5: Table 3c
B7: 2026 | G7: 2025 | N7: % Change
B8: 1Q | C8: 2Q | D8: 3Q | E8: Sep YTD | G8: 1Q | H8: 2Q | I8: 3Q | J8: Sep YTD | K8: 4Q | L8: Full Year | N8: 3Q | O8: Sep YTD
A9: TOTAL PHARMACEUTICAL | B9: 14349.141 | C9: 14759.826 | D9: 16268.358 | E9: 45377.325 | G9: 13638.183 | H9: 14049.927 | I9: 15611.077 | J9: 43299.187 | K9: 14842.979 | L9: 58142.166 | N9: 4.2103507 | O9: 4.7994845
A11: United States | B11: 8511.7151 | C11: 8826.6215 | D11: 10119.085 | E11: 27457.422 | G11: 7926.7306 | H11: 8327.5848 | I11: 9492.9549 | J11: 25747.27 | K11: 8662.0604 | L11: 34409.331 | N11: 6.5957392 | O11: 6.6420703
A12: % Pharmaceutical Sales | B12: 0.59318639 | C12: 0.59801665 | D12: 0.62201024 | E12: 0.60509125 | G12: 0.58121602 | H12: 0.59271375 | I12: 0.60809096 | J12: 0.59463634 | K12: 0.58357964 | L12: 0.5918137
A13: Europe (1) | B13: 2724.721 | C13: 2800.5388 | D13: 2837.3245 | E13: 8362.5842 | G13: 2383.7075 | H13: 2551.0775 | I13: 2675.0899 | J13: 7609.8748 | K13: 2839.0078 | L13: 10448.883 | N13: 6.0646408 | O13: 9.8912193
A14: % Pharmaceutical Sales | B14: 0.1898874 | C14: 0.18974064 | D14: 0.17440755 | E14: 0.18428993 | G14: 0.17478189 | H14: 0.1815723 | I14: 0.17135844 | J14: 0.17575099 | K14: 0.19126941 | L14: 0.17971265
A15: Latin America | B15: 623.54813 | C15: 636.13312 | D15: 729.97311 | E15: 1989.6544 | G15: 588.98569 | H15: 653.53277 | I15: 690.81045 | J15: 1933.3289 | K15: 644.30341 | L15: 2577.6323 | N15: 5.6690898 | O15: 2.9133923
A16: % Pharmaceutical Sales | B16: 0.043455433 | C16: 0.043098959 | D16: 0.04487073 | E16: 0.043846885 | G16: 0.043186521 | H16: 0.046515031 | I16: 0.044251299 | J16: 0.044650467 | K16: 0.043407958 | L16: 0.044333269
A17: Asia Pacific (other than China and Japan) | B17: 568.6719 | C17: 635.98045 | D17: 595.65252 | E17: 1800.3049 | G17: 534.98341 | H17: 608.541 | I17: 592.59754 | J17: 1736.1219 | K17: 586.46604 | L17: 2322.588 | N17: 0.51552433 | O17: 3.6969134
A18: % Pharmaceutical Sales | B18: 0.039631076 | C18: 0.043088615 | D18: 0.036614176 | E18: 0.039674108 | G18: 0.039226883 | H18: 0.043312752 | I18: 0.037960067 | J18: 0.040095948 | K18: 0.039511343 | L18: 0.039946705
A19: Japan | B19: 534.95298 | C19: 558.32404 | D19: 568.94418 | E19: 1662.2212 | G19: 650.97319 | H19: 603.79994 | I19: 693.16932 | J19: 1947.9425 | K19: 684.36728 | L19: 2632.3097 | N19: -17.921327 | O19: -14.667849
A20: % Pharmaceutical Sales | B20: 0.037281185 | C20: 0.037827279 | D20: 0.03497244 | E20: 0.036631097 | G20: 0.047731665 | H20: 0.042975309 | I20: 0.044402402 | J20: 0.044987968 | K20: 0.046107138 | L20: 0.045273678
A21: Eastern Europe/Middle East/Africa | B21: 413.13601 | C21: 407.50568 | D21: 399.4605 | E21: 1220.1022 | G21: 434.59962 | H21: 451.09802 | I21: 364.50763 | J21: 1250.2053 | K21: 347.66636 | L21: 1597.8716 | N21: 9.589064 | O21: -2.4078505
A22: % Pharmaceutical Sales | B22: 0.028791689 | C22: 0.027609112 | D22: 0.024554445 | E22: 0.026887927 | G22: 0.031866386 | H22: 0.032106788 | I22: 0.023349294 | J22: 0.028873643 | K22: 0.02342295 | L22: 0.027482148
A23: China | B23: 353.24982 | C23: 368.02482 | D23: 429.40888 | E23: 1150.6835 | G23: 668.09382 | H23: 406.50517 | I23: 377.44965 | J23: 1452.0487 | K23: 363.78812 | L23: 1815.8368 | N23: 13.765869 | O23: -20.754479
A24: % Pharmaceutical Sales | B24: 0.024618186 | C24: 0.024934225 | D24: 0.026395342 | E24: 0.025358117 | G24: 0.04898701 | H24: 0.028932903 | I24: 0.024178322 | J24: 0.03353524 | K24: 0.024509104 | L24: 0.031230979
A25: Canada | B25: 136.59661 | C25: 154.39386 | D25: 151.69013 | E25: 442.6806 | G25: 125.38082 | H25: 135.14647 | I25: 133.85288 | J25: 394.38017 | K25: 152.67593 | L25: 547.0561 | N25: 13.326012 | O25: 12.247176
A26: % Pharmaceutical Sales | B26: 0.0095194973 | C26: 0.010460412 | D26: 0.0093242435 | E26: 0.0097555465 | G26: 0.0091933664 | H26: 0.0096190162 | I26: 0.0085742247 | J26: 0.0091082581 | K26: 0.01028607 | L26: 0.009408939
A27: Other | B27: 481 | C27: 372 | D27: 437 | E27: 1291 | G27: 324 | H27: 311 | I27: 590 | J27: 1229 | K27: 563 | L27: 1790 | N27: -25.932203 | O27: 5.0447518
A28: % Pharmaceutical Sales | B28: 0.033 | C28: 0.025 | D28: 0.027 | E28: 0.028 | G28: 0.024 | H28: 0.021 | I28: 0.039 | J28: 0.027 | K28: 0.038 | L28: 0.032
A30: Sum of quarterly amounts may not equal year-to-date amounts due to rounding.
A31: (1) Europe represents all European Union countries, the European Union accession markets and the United Kingdom.

Sheet Table 4 - Other Information
A1: MERCK & CO., INC., RAHWAY, N.J., USA
A2: OTHER (INCOME) EXPENSE, NET - GAAP
A3: (AMOUNTS IN MILLIONS)
A4: (UNAUDITED)
A5: Table 4
D7: 3Q26 | E7: 3Q25 | F7: Sep YTD 2026 | G7: Sep YTD 2025
B8: Interest income | D8: -52 | E8: -96 | F8: -122 | G8: -274
B9: Interest expense | D9: 546 | E9: 327 | F9: 1550 | G9: 946
B10: Exchange losses | D10: 63 | E10: 56 | F10: 138 | G10: 224
B11: Income from investments in equity securities, net (1) | D11: -401 | E11: -373 | F11: -811 | G11: -563
B12: Net periodic defined benefit plan (credit) cost other than service cost | D12: -120 | E12: -152 | F12: -382 | G12: -452
B13: Other, net | D13: -9 | E13: 0 | F13: -111 | G13: -162
B14: Total | D14: =SUM(D8:D13) -> 27 | E14: =SUM(E8:E13) -> -238 | F14: =SUM(F8:F13) -> 262 | G14: =SUM(G8:G13) -> -281
B16: (1) Includes net realized and unrealized gains and losses from investments in equity securities either owned directly or through ownership interests in investment funds. Unrealized gains and losses from investments that are directly owned are determined at the end of the reporting period, while gains and losses from ownership interests in investment funds are accounted for on a one quarter lag.
